BEGIN:VCALENDAR
VERSION:2.0
PRODID:-//Workplace Innovation - ECPv4.9.13//NONSGML v1.0//EN
CALSCALE:GREGORIAN
METHOD:PUBLISH
X-WR-CALNAME:Workplace Innovation
X-ORIGINAL-URL:https://workplaceinnovation.eu
X-WR-CALDESC:Events for Workplace Innovation
BEGIN:VTIMEZONE
TZID:Europe/London
BEGIN:DAYLIGHT
TZOFFSETFROM:+0000
TZOFFSETTO:+0100
TZNAME:BST
DTSTART:20220327T010000
END:DAYLIGHT
BEGIN:STANDARD
TZOFFSETFROM:+0100
TZOFFSETTO:+0000
TZNAME:GMT
DTSTART:20221030T010000
END:STANDARD
END:VTIMEZONE
BEGIN:VEVENT
DTSTART;TZID=Europe/London:20221025T123000
DTEND;TZID=Europe/London:20221025T163000
DTSTAMP:20260421T095025
CREATED:20221010T095848Z
LAST-MODIFIED:20250206T150842Z
UID:16695-1666701000-1666715400@workplaceinnovation.eu
SUMMARY:WORKSHOP PLYMOUTH: Cum puteți deveni un angajator ales
DESCRIPTION:\n					\n						\n\n					\n				\n					\n						În parteneriat cu \n\n\n					\n				\n					\n						\n\n					\n				\n					\n						Cum puteți deveni un angajator ales?\nUn atelier gratuit de neratat\n\n					\n				\n					\n						REZERVAȚI GRATUIT ACUM\n\n					\n				\n					\n						\n\n					\n				\n					\n						Ce este inclus: \n\nprânz \n\nrețea \n\no sesiune interactivă de 3 ore \n\n\n					\n				\n					\n						\n\n					\n				\n					\n						A deveni un angajator de elecție se află în centrul competitivității întreprinderilor. Nu este vorba doar de ocuparea posturilor vacante și de acoperirea deficitelor de competențe\, ci și de crearea unor culturi și practici de lucru care să utilizeze și să dezvolte cunoștințele\, competențele și creativitatea întregii forțe de muncă.  \nDovezile și experiența arată deopotrivă că o viață profesională mai bună duce la creșterea performanței și inovării în afaceri\, precum și la atragerea și reținerea celor mai bune talente. \nUn salariu corect\, condiții decente și resurse umane bune nu mai sunt suficiente. Pentru a ajunge acolo este nevoie de dorința de a învăța\, de a fi deschis la o nouă gândire și de a testa noi metode de lucru.  \n\n\n					\n				\n					\n						Acest atelier extrem de interactiv va fi valoros pentru liderii seniori și emergenți\, HR și reprezentanții angajaților\, oferind dovezi internaționale concrete\, inspirație de la companii de top și îndrumări practice pentru a sprijini călătoria organizației dvs. spre a deveni un angajator de alegere: \n\nCe face un loc de muncă excelent?\nCum s-au schimbat lucrurile după pandemie?\nCe trebuie să facă liderii și managerii.\nUn ghid practic pentru schimbarea centrată pe oameni.\nO oportunitate de a împărtăși experiențe și de a învăța de la alți lideri de afaceri care gândesc la fel.\n\n\n\n					\n				\n					\n						Veți afla\, de asemenea\, despre lansarea noii Comunitatea Angajator de alegere\, care reunește întreprinderi necompetitive angajate să învețe din practicile de vârf\, să împărtășească idei și experiențe și să ofere sprijin concret pentru culturi și practici eficiente la locul de muncă. \n\n\n					\n				\n					\n						Program \n12:30 Sosire și networking \n01.00pm Masa de prânz \n02:00 Prezentări și discuții interactive \n\n\n					\n				\n					\n						\n\n\nRezervă-ți locul completând formularul de mai jos\n\n\n\n\n\n					\n				\n					\n						hbspt.forms.create({\n    region: "na1"\,\n    portalId: "4684627"\,\n    formId: "906ebe37-d870-4620-9705-bd73fd59d142"\n  });\n\n\n					\n				\n					\n						\n\n\nResponsabili de atelier\n\n\n\n\n\n					\n				\n					\n						\n\n					\n				\n					\n						Dr. Peter TotterdillDirector fondatorWorkplace Innovation Europe \n\n\n					\n				\n					\n						Peter este un expert internațional în inovarea la locul de muncă\, cu experiență în sprijinirea schimbărilor centrate pe oameni în diverse tipuri de organizații. \n\n\n					\n				\n					\n						\n\n					\n				\n					\n						\n\n					\n				\n					\n						Rosemary ExtonDirector fondatorWorkplace Innovation Europe \n\n\n					\n				\n					\n						Rosemary este un facilitator al schimbării foarte experimentat care se bazează pe o experiență de 39 de ani în NHS\, cu o pasiune pentru implicarea forței de muncă și bunăstarea. \n\n\n					\n				\n
URL:https://workplaceinnovation.eu/event/workshop-plymouth-cum-puteti-deveni-un-angajator-ales/
LOCATION:Devon & Plymouth Chamber\, Unit 5\, Derriford Business Park\, Derriford Rd\, Plymouth\, PL6 5QZ\, United Kingdom
CATEGORIES:Evenimente WIE,Evenimente WIE octombrie
ATTACH;FMTTYPE=image/jpeg:https://workplaceinnovation.eu/wp-content/uploads/2021/02/decent-work-feat2.jpg
END:VEVENT
END:VCALENDAR